Workbook

Sheet riepilogo dati
A8: Totale Educativa Gennaio_Marzo 2022 | F8: =Comprensivo1!F54+Comprensivo2!F43+Biccheddu!F5+'fuori sede'!F7 -> 183601.44
A10: Totale Ass. Specialistica Gennaio_Marzo 2022 | F10: =Comprensivo1!G54+Comprensivo2!G43+Biccheddu!G5+'fuori sede'!G7 -> 35925.12
A12: Totale Complessivo Gennaio_Marzo 2022 | F12: =SUM(F8:F11) -> 219526.56

Sheet Comprensivo1
A1: Comprensivo_1 | H1: giorni scuola
A2: SCUOLA DELL'INFANZIA | H2: 60
A3: N. | B3: Nominativo | C3: Ore SASS Educativa | D3: ORE SASS alla persona | E3: Ore Gennaio_marzo | F3: € 20,76 Educativa | G3: € 18,48 Persona
A4: 1 | B4: omissis | C4: 14 | E4: =Comprensivo1!C4/5*H2 -> 168 | F4: =C4/5*H2*20.76 -> 3487.68 | G4: =D4/5*H$2*18.48 -> 0
A5: 2 | B5: omissis | D5: 14 | E5: =Comprensivo1!D5/5*H2 -> 168 | F5: =C5/5*H$2*20.76 -> 0 | G5: =D5/5*H$2*18.48 -> 3104.64
A6: 3 | B6: omissis | C6: 16 | E6: =Comprensivo1!C6/5*H2 -> 192 | F6: =C6/5*H$2*20.76 -> 3985.92 | G6: =D6/5*H$2*18.48 -> 0
A7: 4 | B7: omissis | C7: 14 | E7: =Comprensivo1!C7/5*H2 -> 168 | F7: =C7/5*H$2*20.76 -> 3487.68 | G7: =D7/5*H$2*18.48 -> 0
A8: 5 | B8: omissis | C8: 14 | E8: =Comprensivo1!C8/5*H2 -> 168 | F8: =C8/5*H$2*20.76 -> 3487.68 | G8: =D8/5*H$2*18.48 -> 0
A9: 6 | B9: omissis | D9: 14 | E9: =Comprensivo1!D9/5*H2 -> 168 | F9: =C9/5*H$2*20.76 -> 0 | G9: =D9/5*H$2*18.48 -> 3104.64
A10: 7 | B10: omissis | C10: 11 | E10: =C10/5*H2 -> 132 | F10: =E10*20.76 -> 2740.32
A11: =A10 -> 7 | B11: Totale ore assistenza specialistica SCUOLA DELL'INFANZIA | C11: =SUM(Comprensivo1!C4:C10) -> 69 | D11: =SUM(D5:D10) -> 28 | E11: =SUM(E4:E10) -> 1164 | F11: =SUM(Comprensivo1!F4:F10) -> 17189.28 | G11: =SUM(Comprensivo1!G4:G9) -> 6209.28
A13: SCUOLA PRIMARIA
A14: N. | B14: Nominativo | C14: Ore SASS Educativa | D14: ORE SASS alla persona | E14: Ore Gennaio_marzo | F14: € 20,76 Educativa | G14: € 18,48 Persona
A15: 1 | B15: omissis | C15: 14 | E15: =Comprensivo1!C15/5*H2 -> 168 | F15: =C15/5*H$2*20.76 -> 3487.68 | G15: =D15/5*H$2*18.48 -> 0
A16: 2 | B16: omissis | C16: 16 | E16: =Comprensivo1!C16/5*H2 -> 192 | F16: =C16/5*H$2*20.76 -> 3985.92 | G16: =D16/5*H$2*18.48 -> 0
A17: 3 | B17: omissis | D17: 11 | E17: =Comprensivo1!D17/5*H2 -> 132 | F17: =C17/5*H$2*20.76 -> 0 | G17: =D17/5*H$2*18.48 -> 2439.36
A18: 4 | B18: omissis | C18: 16 | E18: =Comprensivo1!C18/5*H2 -> 192 | F18: =C18/5*H$2*20.76 -> 3985.92 | G18: =D18/5*H$2*18.48 -> 0
A19: 5 | B19: omissis | D19: 21 | E19: =Comprensivo1!D19/5*H$2 -> 252 | F19: =C19/5*H$2*20.76 -> 0 | G19: =D19/5*H$2*18.48 -> 4656.96
A20: 6 | B20: omissis | C20: 12 | E20: =Comprensivo1!C20/5*H$2 -> 144 | F20: =C20/5*H$2*20.76 -> 2989.44 | G20: =D20/5*H$2*18.48 -> 0
A21: 7 | B21: omissis | C21: 14 | E21: =Comprensivo1!C21/5*H$2 -> 168 | F21: =C21/5*H$2*20.76 -> 3487.68 | G21: =D21/5*H$2*18.48 -> 0
A22: 8 | B22: omissis | C22: 14 | E22: =Comprensivo1!C22/5*H$2 -> 168 | F22: =C22/5*H$2*20.76 -> 3487.68 | G22: =D22/5*H$2*18.48 -> 0
A23: 9 | B23: omissis | C23: 19 | E23: =Comprensivo1!C23/5*H$2 -> 228 | F23: =C23/5*H$2*20.76 -> 4733.28 | G23: =D23/5*H$2*18.48 -> 0
A24: 10 | B24: omissis | C24: 9 | E24: =Comprensivo1!C24/5*H$2 -> 108 | F24: =C24/5*H$2*20.76 -> 2242.08 | G24: =D24/5*H$2*18.48 -> 0
A25: 11 | B25: omissis | C25: 9 | E25: =Comprensivo1!C25/5*H$2 -> 108 | F25: =C25/5*H$2*20.76 -> 2242.08 | G25: =D25/5*H$2*18.48 -> 0
A26: 12 | B26: omissis | C26: 14 | E26: =Comprensivo1!C26/5*H$2 -> 168 | F26: =C26/5*H$2*20.76 -> 3487.68 | G26: =D26/5*H$2*18.48 -> 0
A27: 13 | B27: omissis | C27: 14 | E27: =Comprensivo1!C27/5*H$2 -> 168 | F27: =C27/5*H$2*20.76 -> 3487.68 | G27: =D27/5*H$2*18.48 -> 0
A28: 14 | B28: omissis | C28: 14 | E28: =Comprensivo1!C28/5*H$2 -> 168 | F28: =C28/5*H$2*20.76 -> 3487.68 | G28: =D28/5*H$2*18.48 -> 0
A29: 15 | B29: omissis | D29: 12 | E29: =Comprensivo1!D29/5*H$2 -> 144 | F29: =C29/5*H$2*20.76 -> 0 | G29: =D29/5*H$2*18.48 -> 2661.12
A30: 16 | B30: omissis | C30: 14 | E30: =Comprensivo1!C30/5*H$2 -> 168 | F30: =C30/5*H$2*20.76 -> 3487.68 | G30: =D30/5*H$2*18.48 -> 0
A31: 17 | B31: omissis | C31: 14 | E31: =Comprensivo1!C31/5*H$2 -> 168 | F31: =C31/5*H$2*20.76 -> 3487.68 | G31: =D31/5*H$2*18.48 -> 0
A32: 18 | B32: omissis | C32: 11 | E32: =Comprensivo1!C32/5*H$2 -> 132 | F32: =C32/5*H$2*20.76 -> 2740.32 | G32: =D32/5*H$2*18.48 -> 0
A33: 19 | B33: omissis | C33: 14 | E33: =Comprensivo1!C33/5*H$2 -> 168 | F33: =C33/5*H$2*20.76 -> 3487.68 | G33: =D33/5*H$2*18.48 -> 0
A34: 20 | B34: omissis | C34: 9 | E34: =Comprensivo1!C34/5*H$2 -> 108 | F34: =C34/5*H$2*20.76 -> 2242.08 | G34: =D34/5*H$2*18.48 -> 0
A35: 20 | B35: Totale ore assistenza specialistica SCUOLA PRIMARIA | D35: =SUM(Comprensivo1!D15:D33) -> 44 | E35: =SUM(Comprensivo1!E15:E34) -> 3252 | F35: =SUM(Comprensivo1!F15:F34) -> 56550.24 | G35: =SUM(Comprensivo1!G15:G34) -> 9757.44
A37: SCUOLA SECONDARIA DI PRIMO GRADO
A38: N. | B38: Nominativo | C38: Ore SASS Educativa | D38: ORE SASS alla persona | E38: Ore Gennaio_marzo | F38: € 20,76 Educativa | G38: € 18,48 Persona
A39: 1 | B39: omissis | C39: 14 | E39: =Comprensivo1!C39/5*H$2 -> 168 | F39: =C39/5*H$2*20.76 -> 3487.68 | G39: =D39/5*H$2*18.48 -> 0
A40: 2 | B40: omissis | C40: 11 | E40: =Comprensivo1!C40/5*H$2 -> 132 | F40: =C40/5*H$2*20.76 -> 2740.32 | G40: =D40/5*H$2*18.48 -> 0
A41: 3 | B41: omissis | C41: 10 | E41: =Comprensivo1!C41/5*H$2 -> 120 | F41: =C41/5*H$2*20.76 -> 2491.2 | G41: =D41/5*H$2*18.48 -> 0
A42: 4 | B42: omissis | C42: 11 | E42: =Comprensivo1!C42/5*H$2 -> 132 | F42: =C42/5*H$2*20.76 -> 2740.32 | G42: =D42/5*H$2*18.48 -> 0
A43: 5 | B43: omissis | C43: 11 | E43: =Comprensivo1!C43/5*H$2 -> 132 | F43: =C43/5*H$2*20.76 -> 2740.32 | G43: =D43/5*H$2*18.48 -> 0
A44: 6 | B44: omissis | D44: 19 | E44: =Comprensivo1!D44/5*H$2 -> 228 | F44: =C44/5*H$2*20.76 -> 0 | G44: =D44/5*H$2*18.48 -> 4213.44
A45: 7 | B45: omissis | C45: 9 | E45: =Comprensivo1!C45/5*H$2 -> 108 | F45: =C45/5*H$2*20.76 -> 2242.08 | G45: =D45/5*H$2*18.48 -> 0
A46: 8 | B46: omissis | C46: 7 | E46: =Comprensivo1!C46/5*H$2 -> 84 | F46: =C46/5*H$2*20.76 -> 1743.84 | G46: =D46/5*H$2*18.48 -> 0
A47: 9 | B47: omissis | C47: 9 | E47: =Comprensivo1!C47/5*H$2 -> 108 | F47: =C47/5*H$2*20.76 -> 2242.08 | G47: =D47/5*H$2*18.48 -> 0
A48: 10 | B48: omissis | C48: 9 | E48: =Comprensivo1!C48/5*H$2 -> 108 | F48: =C48/5*H$2*20.76 -> 2242.08 | G48: =D48/5*H$2*18.48 -> 0
A49: 11 | B49: omissis | C49: 11 | E49: =Comprensivo1!C49/5*H$2 -> 132 | F49: =C49/5*H$2*20.76 -> 2740.32 | G49: =D49/5*H$2*18.48 -> 0
A50: 12 | B50: omissis | C50: 7 | E50: =Comprensivo1!C50/5*H$2 -> 84 | F50: =C50/5*H$2*20.76 -> 1743.84 | G50: =D50/5*H$2*18.48 -> 0
A51: 13 | B51: omissis | C51: 9 | E51: =Comprensivo1!C51/5*H$2 -> 108 | F51: =C51/5*H$2*20.76 -> 2242.08 | G51: =D51/5*H$2*18.48 -> 0
A52: 14 | B52: omissis | C52: 9 | E52: =Comprensivo1!C52/5*H$2 -> 108 | F52: =C52/5*H$2*20.76 -> 2242.08 | G52: =D52/5*H$2*18.48 -> 0
A53: 14 | B53: Totale ore assistenza specialistica Plesso BRUNELLESCHI | D53: =SUM(Comprensivo1!D39:D52) -> 19 | E53: =SUM(Comprensivo1!E39:E52) -> 1752 | F53: =SUM(Comprensivo1!F39:F52) -> 31638.24 | G53: =SUM(Comprensivo1!G39:G52) -> 4213.44
A54: Totale ore assistenza specialistica C. 1 PORTO TORRES | C54: =C11+C35+C53 -> 69 | D54: =D11+D35+D53 -> 91 | E54: =E11+E35+E53 -> 6168 | F54: =F11+F35+F53 -> 105377.76 | G54: =G11+G35+G53 -> 20180.16
A57: =A53+A35+A11 -> 41 | F57: =F54+G54 -> 125557.92

Sheet Comprensivo2
A1: ISTITUTO COMPRENSIVO 2 DON ANTONIO SANNA PORTO TORRES (SSIC842003) | H1: Giorni scuola
A2: INFANZIA | H2: 60
A3: N. | B3: Nominativo | C3: Ore SASS Educativa | D3: ORE SASS alla persona | E3: Ore Gennaio_marzo | F3: € 20,76 Educativa | G3: € 18,48 Persona
A4: 1 | B4: omissis | C4: 0 | D4: 16 | E4: =Comprensivo2!D4/5*H2 -> 192 | F4: =C4/5*H$2*20.76 -> 0 | G4: =Comprensivo2!D4/5*H$2*18.48 -> 3548.16
A5: 2 | B5: omissis | D5: 14 | E5: =Comprensivo2!D5/5*H2 -> 168 | F5: =C5/5*H$2*20.76 -> 0 | G5: =Comprensivo2!D5/5*H$2*18.48 -> 3104.64
A6: 2 | B6: Totale ore assistenza specialistica SCUOLA DELL'INFANZIA | C6: =SUM(C4:C5) -> 0 | D6: =SUM(D4:D5) -> 30 | E6: =SUM(E4:E5) -> 360 | F6: =SUM(F4:F5) -> 0 | G6: =SUM(G4:G5) -> 6652.8
A7: PRIMARIA
A8: N. | B8: Nominativo | C8: Ore SASS Educativa | D8: ORE SASS alla persona | E8: Ore Gennaio_marzo | F8: € 20,76 Educativa | G8: € 18,48 Persona
A9: 1 | B9: omissis | D9: 9 | E9: =Comprensivo2!D9/5*H2 -> 108 | F9: =C9/5*H$2*20.76 -> 0 | G9: =Comprensivo2!D9/5*H$2*18.48 -> 1995.84
A10: 2 | B10: omissis | C10: 10 | E10: =Comprensivo2!C10/5*H$2 -> 120 | F10: =C10/5*H$2*20.76 -> 2491.2 | G10: =Comprensivo2!D10/5*H$2*18.48 -> 0
A11: 3 | B11: omissis | C11: 7 | E11: =Comprensivo2!C11/5*H$2 -> 84 | F11: =C11/5*H$2*20.76 -> 1743.84 | G11: =Comprensivo2!D11/5*H$2*18.48 -> 0
A12: 4 | B12: omissis | C12: 9 | E12: =Comprensivo2!C12/5*H$2 -> 108 | F12: =C12/5*H$2*20.76 -> 2242.08 | G12: =Comprensivo2!D12/5*H$2*18.48 -> 0
A13: 5 | B13: omissis | C13: 9 | E13: =Comprensivo2!C13/5*H$2 -> 108 | F13: =C13/5*H$2*20.76 -> 2242.08 | G13: =Comprensivo2!D13/5*H$2*18.48 -> 0
A14: 6 | B14: omissis | C14: 11 | E14: =Comprensivo2!C14/5*H$2 -> 132 | F14: =C14/5*H$2*20.76 -> 2740.32 | G14: =Comprensivo2!D14/5*H$2*18.48 -> 0
A15: 7 | B15: omissis | C15: 18 | E15: =Comprensivo2!C15/5*H$2 -> 216 | F15: =C15/5*H$2*20.76 -> 4484.16 | G15: =Comprensivo2!D15/5*H$2*18.48 -> 0
A16: 8 | B16: omissis | C16: 14 | E16: =Comprensivo2!C16/5*H$2 -> 168 | F16: =C16/5*H$2*20.76 -> 3487.68 | G16: =Comprensivo2!D16/5*H$2*18.48 -> 0
A17: 9 | B17: omissis | C17: 7 | E17: =Comprensivo2!C17/5*H$2 -> 84 | F17: =C17/5*H$2*20.76 -> 1743.84 | G17: =Comprensivo2!D17/5*H$2*18.48 -> 0
A18: 10 | B18: omissis | C18: 7 | E18: =Comprensivo2!C18/5*H$2 -> 84 | F18: =C18/5*H$2*20.76 -> 1743.84 | G18: =Comprensivo2!D18/5*H$2*18.48 -> 0
A19: 11 | B19: omissis | C19: 10 | E19: =Comprensivo2!C19/5*H$2 -> 120 | F19: =C19/5*H$2*20.76 -> 2491.2 | G19: =Comprensivo2!D19/5*H$2*18.48 -> 0
A20: 12 | B20: omissis | C20: 9 | E20: =Comprensivo2!C20/5*H$2 -> 108 | F20: =C20/5*H$2*20.76 -> 2242.08 | G20: =Comprensivo2!D20/5*H$2*18.48 -> 0
A21: 13 | B21: omissis | C21: 11 | E21: =Comprensivo2!C21/5*H$2 -> 132 | F21: =C21/5*H$2*20.76 -> 2740.32 | G21: =Comprensivo2!D21/5*H$2*18.48 -> 0
A22: 14 | B22: omissis | C22: 9 | E22: =Comprensivo2!C22/5*H$2 -> 108 | F22: =C22/5*H$2*20.76 -> 2242.08 | G22: =Comprensivo2!D22/5*H$2*18.48 -> 0
A23: 15 | B23: omissis | D23: 14 | E23: =Comprensivo2!D23/5*H$2 -> 168 | F23: =C23/5*H$2*20.76 -> 0 | G23: =Comprensivo2!D23/5*H$2*18.48 -> 3104.64
A24: 16 | B24: omissis | C24: 9 | E24: =Comprensivo2!C24/5*H$2 -> 108 | F24: =C24/5*H$2*20.76 -> 2242.08 | G24: =Comprensivo2!D24/5*H$2*18.48 -> 0
A25: 17 | B25: omissis | C25: 11 | E25: =Comprensivo2!C25/5*H$2 -> 132 | F25: =C25/5*H$2*20.76 -> 2740.32 | G25: =Comprensivo2!D25/5*H$2*18.48 -> 0
A26: 18 | B26: omissis | C26: 11 | E26: =Comprensivo2!C26/5*H$2 -> 132 | F26: =C26/5*H$2*20.76 -> 2740.32 | G26: =Comprensivo2!D26/5*H$2*18.48 -> 0
A27: 19 | B27: omissis | C27: 11 | E27: =Comprensivo2!C27/5*H$2 -> 132 | F27: =C27/5*H$2*20.76 -> 2740.32 | G27: =Comprensivo2!D27/5*H$2*18.48 -> 0
A28: 20 | B28: omissis | C28: 9 | E28: =Comprensivo2!C28/5*H$2 -> 108 | F28: =C28/5*H$2*20.76 -> 2242.08 | G28: =Comprensivo2!D28/5*H$2*18.48 -> 0
A29: 20 | B29: Totale ore assistenza specialistica SCUOLA PRIMARIA | C29: =SUM(C9:C28) -> 182 | D29: =SUM(D9:D28) -> 23 | E29: =SUM(E9:E28) -> 2460 | F29: =SUM(F9:F28) -> 45339.84 | G29: =SUM(G9:G28) -> 5100.48
A30: SECONDARIA
A31: N. | B31: Nominativo | C31: Ore SASS Educativa | D31: ORE SASS alla persona | E31: Ore Gennaio_marzo | F31: € 20,76 Educativa | G31: € 18,48 Persona
A32: 1 | B32: omissis | C32: 11 | E32: =Comprensivo2!C32/5*H$2 -> 132 | F32: =C32/5*H$2*20.76 -> 2740.32 | G32: =D32/5*H$2*18.48 -> 0
A33: 2 | B33: omissis | C33: 11 | E33: =Comprensivo2!C33/5*H$2 -> 132 | F33: =C33/5*H$2*20.76 -> 2740.32 | G33: =D33/5*H$2*18.48 -> 0
A34: 3 | B34: omissis | C34: 6 | E34: =Comprensivo2!C34/5*H$2 -> 72 | F34: =C34/5*H$2*20.76 -> 1494.72 | G34: =D34/5*H$2*18.48 -> 0
A35: 4 | B35: omissis | C35: 11 | E35: =Comprensivo2!C35/5*H$2 -> 132 | F35: =C35/5*H$2*20.76 -> 2740.32 | G35: =D35/5*H$2*18.48 -> 0
A36: 5 | B36: omissis | C36: 11 | E36: =Comprensivo2!C36/5*H$2 -> 132 | F36: =C36/5*H$2*20.76 -> 2740.32 | G36: =D36/5*H$2*18.48 -> 0
A37: 6 | B37: omissis | C37: 9 | E37: =Comprensivo2!C37/5*H$2 -> 108 | F37: =C37/5*H$2*20.76 -> 2242.08 | G37: =D37/5*H$2*18.48 -> 0
A38: 7 | B38: omissis | C38: 11 | E38: =Comprensivo2!C38/5*H$2 -> 132 | F38: =C38/5*H$2*20.76 -> 2740.32 | G38: =D38/5*H$2*18.48 -> 0
A39: 8 | B39: omissis | C39: 15 | E39: =Comprensivo2!C39/5*H$2 -> 180 | F39: =C39/5*H$2*20.76 -> 3736.8 | G39: =D39/5*H$2*18.48 -> 0
A40: 9 | B40: omissis | C40: 7 | E40: =Comprensivo2!C40/5*H$2 -> 84 | F40: =C40/5*H$2*20.76 -> 1743.84 | G40: =D40/5*H$2*18.48 -> 0
A41: 10 | B41: omissis | C41: 9 | E41: =Comprensivo2!C41/5*H$2 -> 108 | F41: =C41/5*H$2*20.76 -> 2242.08 | G41: =D41/5*H$2*18.48 -> 0
A42: 10 | B42: Totale ore assistenza specialistica Don Sanna | C42: =SUM(C32:C41) -> 101 | D42: =SUM(D32:D41) -> 0 | E42: =SUM(E32:E41) -> 1212 | F42: =SUM(F32:F41) -> 25161.12 | G42: =SUM(G32:G41) -> 0
A43: Totale ore assistenza specialistica C. 12PORTO TORRES | C43: =C6+C29+C42 -> 283 | D43: =D6+D29+D42 -> 53 | E43: =E6+E29+E42 -> 4032 | F43: =F6+F29+F42 -> 70500.96 | G43: =G6+G29+G42 -> 11753.28
A44: =A42+A29+A6 -> 32
F46: =F43+G43 -> 82254.24

Sheet Biccheddu
A1: Asilo Biccheddu
A2: SCUOLA DELL'INFANZIA
A3: N. | B3: Nominativo | C3: Ore SASS Educativa | D3: ORE SASS alla persona | E3: Ore Gennaio_Marzo | F3: € 20,76 Educativa | G3: € 18,48 Persona | H3: integrazione ore
A4: 1 | B4: omissis | C4: 15 | D4: 0 | E4: =C4/5*60 -> 180 | F4: =E4*20.76 -> 3736.8 | H4: 14
A5: 1 | B5: Totale ore assistenza specialistica BICCHEDDU | C5: =SUM(C4:C4) -> 15 | D5: =SUM(D4) -> 0 | E5: =SUM(E4) -> 180 | F5: =SUM(F4) -> 3736.8 | G5: =SUM(G4) -> 0
F7: =F5+G5 -> 3736.8

Sheet fuori sede
H1: giorni scuola
A2: Fuori sede | H2: 60
A3: N. | B3: Nominativo | C3: Ore SASS Educativa | D3: ORE SASS alla persona | E3: Ore Gennaio_Marzo | F3: € 20,76 Educativa | G3: € 18,48 Persona
A4: 1 | B4: omissis | D4: 18 | E4: =D4/5*H2 -> 216 | F4: =C4/5*H$2*20.76 -> 0 | G4: =D4/5*$H2*18.48 -> 3991.68
A5: 2 | B5: omissis | C5: 16 | E5: =C5/5*H2 -> 192 | F5: =C5/5*H$2*20.76 -> 3985.92 | G5: =D5/5*$H4*18.48 -> 0
C6: =SUM(C4:C5) -> 16 | D6: =SUM(D4:D5) -> 18 | E6: =SUM(E4:E5) -> 408 | F6: =SUM(F4:F5) -> 3985.92 | G6: =SUM(G4:G5) -> 3991.68
A7: Totale ore assistenza specialistica FUORI SEDE | C7: =C6 -> 16 | D7: =D6 -> 18 | E7: =E6 -> 408 | F7: =F6 -> 3985.92 | G7: =G6 -> 3991.68
F9: =F7+G7 -> 7977.6
